BEGIN:VCALENDAR
VERSION:2.0
PRODID:-//Washington State Wine Commission - ECPv6.15.18//NONSGML v1.0//EN
CALSCALE:GREGORIAN
METHOD:PUBLISH
X-WR-CALNAME:Washington State Wine Commission
X-ORIGINAL-URL:https://www.washingtonwine.org
X-WR-CALDESC:Events for Washington State Wine Commission
REFRESH-INTERVAL;VALUE=DURATION:PT1H
X-Robots-Tag:noindex
X-PUBLISHED-TTL:PT1H
BEGIN:VTIMEZONE
TZID:America/Los_Angeles
BEGIN:DAYLIGHT
TZOFFSETFROM:-0800
TZOFFSETTO:-0700
TZNAME:PDT
DTSTART:20250309T100000
END:DAYLIGHT
BEGIN:STANDARD
TZOFFSETFROM:-0700
TZOFFSETTO:-0800
TZNAME:PST
DTSTART:20251102T090000
END:STANDARD
BEGIN:DAYLIGHT
TZOFFSETFROM:-0800
TZOFFSETTO:-0700
TZNAME:PDT
DTSTART:20260308T100000
END:DAYLIGHT
BEGIN:STANDARD
TZOFFSETFROM:-0700
TZOFFSETTO:-0800
TZNAME:PST
DTSTART:20261101T090000
END:STANDARD
BEGIN:DAYLIGHT
TZOFFSETFROM:-0800
TZOFFSETTO:-0700
TZNAME:PDT
DTSTART:20270314T100000
END:DAYLIGHT
BEGIN:STANDARD
TZOFFSETFROM:-0700
TZOFFSETTO:-0800
TZNAME:PST
DTSTART:20271107T090000
END:STANDARD
END:VTIMEZONE
BEGIN:VEVENT
DTSTART;TZID=America/Los_Angeles:20260503T103000
DTEND;TZID=America/Los_Angeles:20260503T120000
DTSTAMP:20260419T083426
CREATED:20260415T212516Z
LAST-MODIFIED:20260415T212516Z
UID:10003955-1777804200-1777809600@www.washingtonwine.org
SUMMARY:Yoga + Wine at Callan Cellars
DESCRIPTION:Join us for a 45-minute all-levels yoga class led by a local Yoga Uncorked Chelan instructor. We’ll move\, breathe\, and reset—no matter your experience level.\nAfter class\, stick around for wine! Grab a tasting flight\, enjoy a glass\, or share a bottle with friends. It’s a great way to move your body and connect with good company. \n45 Min Yoga Class\nBYOYM: Bring your own Yoga Mat!\n$25/person — wine cost separate\n10% off all bottle purchases\n21+ only\nTickets are Limited \n**Please sign up at least 24 hours in advance so we know how many yogis to expect\, and to make sure we can meet the Winery’s minimum. **\nCANCELLATION POLICY: No refunds. A minimum of 24 hours notice required to reschedule into another event.\nQuestions? ask us at yogauncorked@gmail.com
URL:https://www.washingtonwine.org/event/yoga-wine-at-callan-cellars/2026-05-03/
LOCATION:Callan Cellars\, 37 US-97 ALT\, Chelan\, WA\, 98816\, United States
CATEGORIES:Unique Experiences
ATTACH;FMTTYPE=image/jpeg:https://www.washingtonwine.org/wp-content/uploads/2026/04/Callan-4-scaled.jpg
ORGANIZER;CN="Yoga Uncorked":MAILTO:yogauncorked@gmail.com
END:VEVENT
BEGIN:VEVENT
DTSTART;TZID=America/Los_Angeles:20260607T103000
DTEND;TZID=America/Los_Angeles:20260607T120000
DTSTAMP:20260419T083426
CREATED:20260415T212516Z
LAST-MODIFIED:20260415T212516Z
UID:10003956-1780828200-1780833600@www.washingtonwine.org
SUMMARY:Yoga + Wine at Callan Cellars
DESCRIPTION:Join us for a 45-minute all-levels yoga class led by a local Yoga Uncorked Chelan instructor. We’ll move\, breathe\, and reset—no matter your experience level.\nAfter class\, stick around for wine! Grab a tasting flight\, enjoy a glass\, or share a bottle with friends. It’s a great way to move your body and connect with good company. \n45 Min Yoga Class\nBYOYM: Bring your own Yoga Mat!\n$25/person — wine cost separate\n10% off all bottle purchases\n21+ only\nTickets are Limited \n**Please sign up at least 24 hours in advance so we know how many yogis to expect\, and to make sure we can meet the Winery’s minimum. **\nCANCELLATION POLICY: No refunds. A minimum of 24 hours notice required to reschedule into another event.\nQuestions? ask us at yogauncorked@gmail.com
URL:https://www.washingtonwine.org/event/yoga-wine-at-callan-cellars/2026-06-07/
LOCATION:Callan Cellars\, 37 US-97 ALT\, Chelan\, WA\, 98816\, United States
CATEGORIES:Unique Experiences
ATTACH;FMTTYPE=image/jpeg:https://www.washingtonwine.org/wp-content/uploads/2026/04/Callan-4-scaled.jpg
ORGANIZER;CN="Yoga Uncorked":MAILTO:yogauncorked@gmail.com
END:VEVENT
BEGIN:VEVENT
DTSTART;TZID=America/Los_Angeles:20260705T103000
DTEND;TZID=America/Los_Angeles:20260705T120000
DTSTAMP:20260419T083426
CREATED:20260415T212516Z
LAST-MODIFIED:20260415T212516Z
UID:10003957-1783247400-1783252800@www.washingtonwine.org
SUMMARY:Yoga + Wine at Callan Cellars
DESCRIPTION:Join us for a 45-minute all-levels yoga class led by a local Yoga Uncorked Chelan instructor. We’ll move\, breathe\, and reset—no matter your experience level.\nAfter class\, stick around for wine! Grab a tasting flight\, enjoy a glass\, or share a bottle with friends. It’s a great way to move your body and connect with good company. \n45 Min Yoga Class\nBYOYM: Bring your own Yoga Mat!\n$25/person — wine cost separate\n10% off all bottle purchases\n21+ only\nTickets are Limited \n**Please sign up at least 24 hours in advance so we know how many yogis to expect\, and to make sure we can meet the Winery’s minimum. **\nCANCELLATION POLICY: No refunds. A minimum of 24 hours notice required to reschedule into another event.\nQuestions? ask us at yogauncorked@gmail.com
URL:https://www.washingtonwine.org/event/yoga-wine-at-callan-cellars/2026-07-05/
LOCATION:Callan Cellars\, 37 US-97 ALT\, Chelan\, WA\, 98816\, United States
CATEGORIES:Unique Experiences
ATTACH;FMTTYPE=image/jpeg:https://www.washingtonwine.org/wp-content/uploads/2026/04/Callan-4-scaled.jpg
ORGANIZER;CN="Yoga Uncorked":MAILTO:yogauncorked@gmail.com
END:VEVENT
BEGIN:VEVENT
DTSTART;TZID=America/Los_Angeles:20260802T103000
DTEND;TZID=America/Los_Angeles:20260802T120000
DTSTAMP:20260419T083426
CREATED:20260415T212516Z
LAST-MODIFIED:20260415T212516Z
UID:10003958-1785666600-1785672000@www.washingtonwine.org
SUMMARY:Yoga + Wine at Callan Cellars
DESCRIPTION:Join us for a 45-minute all-levels yoga class led by a local Yoga Uncorked Chelan instructor. We’ll move\, breathe\, and reset—no matter your experience level.\nAfter class\, stick around for wine! Grab a tasting flight\, enjoy a glass\, or share a bottle with friends. It’s a great way to move your body and connect with good company. \n45 Min Yoga Class\nBYOYM: Bring your own Yoga Mat!\n$25/person — wine cost separate\n10% off all bottle purchases\n21+ only\nTickets are Limited \n**Please sign up at least 24 hours in advance so we know how many yogis to expect\, and to make sure we can meet the Winery’s minimum. **\nCANCELLATION POLICY: No refunds. A minimum of 24 hours notice required to reschedule into another event.\nQuestions? ask us at yogauncorked@gmail.com
URL:https://www.washingtonwine.org/event/yoga-wine-at-callan-cellars/2026-08-02/
LOCATION:Callan Cellars\, 37 US-97 ALT\, Chelan\, WA\, 98816\, United States
CATEGORIES:Unique Experiences
ATTACH;FMTTYPE=image/jpeg:https://www.washingtonwine.org/wp-content/uploads/2026/04/Callan-4-scaled.jpg
ORGANIZER;CN="Yoga Uncorked":MAILTO:yogauncorked@gmail.com
END:VEVENT
END:VCALENDAR