BEGIN:VCALENDAR
VERSION:2.0
PRODID:-//Washington State Wine Commission - ECPv6.15.18//NONSGML v1.0//EN
CALSCALE:GREGORIAN
METHOD:PUBLISH
X-WR-CALNAME:Washington State Wine Commission
X-ORIGINAL-URL:https://www.washingtonwine.org
X-WR-CALDESC:Events for Washington State Wine Commission
REFRESH-INTERVAL;VALUE=DURATION:PT1H
X-Robots-Tag:noindex
X-PUBLISHED-TTL:PT1H
BEGIN:VTIMEZONE
TZID:America/Los_Angeles
BEGIN:DAYLIGHT
TZOFFSETFROM:-0800
TZOFFSETTO:-0700
TZNAME:PDT
DTSTART:20250309T100000
END:DAYLIGHT
BEGIN:STANDARD
TZOFFSETFROM:-0700
TZOFFSETTO:-0800
TZNAME:PST
DTSTART:20251102T090000
END:STANDARD
BEGIN:DAYLIGHT
TZOFFSETFROM:-0800
TZOFFSETTO:-0700
TZNAME:PDT
DTSTART:20260308T100000
END:DAYLIGHT
BEGIN:STANDARD
TZOFFSETFROM:-0700
TZOFFSETTO:-0800
TZNAME:PST
DTSTART:20261101T090000
END:STANDARD
BEGIN:DAYLIGHT
TZOFFSETFROM:-0800
TZOFFSETTO:-0700
TZNAME:PDT
DTSTART:20270314T100000
END:DAYLIGHT
BEGIN:STANDARD
TZOFFSETFROM:-0700
TZOFFSETTO:-0800
TZNAME:PST
DTSTART:20271107T090000
END:STANDARD
END:VTIMEZONE
BEGIN:VEVENT
DTSTART;TZID=America/Los_Angeles:20260626T183000
DTEND;TZID=America/Los_Angeles:20260626T210000
DTSTAMP:20260417T213459
CREATED:20260413T201325Z
LAST-MODIFIED:20260413T201325Z
UID:10003426-1782498600-1782507600@www.washingtonwine.org
SUMMARY:Music Nights at Obelisco Estate Winery! Hollywood District\, Woodinville
DESCRIPTION:Every Friday and Saturday Evening from 7pm to 9pm\nObelisco Music Nights bring the best of the Pacific Northwest straight to your glass. Every Friday Evening\, our tasting room comes alive with talented local musicians\, creating the perfect backdrop for great wine\, great company\, and unforgettable evenings. From soulful acoustic sets to high‑energy favorites\, our stage hosts some of the region’s most loved performers.\nJoin us\, settle in\, and let the music elevate your night.
URL:https://www.washingtonwine.org/event/music-nights-at-obelisco-estate-winery-hollywood-district-woodinville/2026-06-26/
LOCATION:Obelisco\, Hollywood District - 14525 148th Ave NE\, Woodinville\, WA\, 98072\, United States
CATEGORIES:Concert,Consumer,Date-Night,Tasting,Wine-tasting
ATTACH;FMTTYPE=image/png:https://www.washingtonwine.org/wp-content/uploads/2026/04/Music-FLYER-WEEKLY-Generic.png
ORGANIZER;CN="Obelisco":MAILTO:amy@obelisco.com
END:VEVENT
BEGIN:VEVENT
DTSTART;TZID=America/Los_Angeles:20260619T183000
DTEND;TZID=America/Los_Angeles:20260619T210000
DTSTAMP:20260417T213459
CREATED:20260413T201325Z
LAST-MODIFIED:20260413T201325Z
UID:10003425-1781893800-1781902800@www.washingtonwine.org
SUMMARY:Music Nights at Obelisco Estate Winery! Hollywood District\, Woodinville
DESCRIPTION:Every Friday and Saturday Evening from 7pm to 9pm\nObelisco Music Nights bring the best of the Pacific Northwest straight to your glass. Every Friday Evening\, our tasting room comes alive with talented local musicians\, creating the perfect backdrop for great wine\, great company\, and unforgettable evenings. From soulful acoustic sets to high‑energy favorites\, our stage hosts some of the region’s most loved performers.\nJoin us\, settle in\, and let the music elevate your night.
URL:https://www.washingtonwine.org/event/music-nights-at-obelisco-estate-winery-hollywood-district-woodinville/2026-06-19/
LOCATION:Obelisco\, Hollywood District - 14525 148th Ave NE\, Woodinville\, WA\, 98072\, United States
CATEGORIES:Concert,Consumer,Date-Night,Tasting,Wine-tasting
ATTACH;FMTTYPE=image/png:https://www.washingtonwine.org/wp-content/uploads/2026/04/Music-FLYER-WEEKLY-Generic.png
ORGANIZER;CN="Obelisco":MAILTO:amy@obelisco.com
END:VEVENT
BEGIN:VEVENT
DTSTART;TZID=America/Los_Angeles:20260612T183000
DTEND;TZID=America/Los_Angeles:20260612T210000
DTSTAMP:20260417T213459
CREATED:20260413T201325Z
LAST-MODIFIED:20260413T201325Z
UID:10003424-1781289000-1781298000@www.washingtonwine.org
SUMMARY:Music Nights at Obelisco Estate Winery! Hollywood District\, Woodinville
DESCRIPTION:Every Friday and Saturday Evening from 7pm to 9pm\nObelisco Music Nights bring the best of the Pacific Northwest straight to your glass. Every Friday Evening\, our tasting room comes alive with talented local musicians\, creating the perfect backdrop for great wine\, great company\, and unforgettable evenings. From soulful acoustic sets to high‑energy favorites\, our stage hosts some of the region’s most loved performers.\nJoin us\, settle in\, and let the music elevate your night.
URL:https://www.washingtonwine.org/event/music-nights-at-obelisco-estate-winery-hollywood-district-woodinville/2026-06-12/
LOCATION:Obelisco\, Hollywood District - 14525 148th Ave NE\, Woodinville\, WA\, 98072\, United States
CATEGORIES:Concert,Consumer,Date-Night,Tasting,Wine-tasting
ATTACH;FMTTYPE=image/png:https://www.washingtonwine.org/wp-content/uploads/2026/04/Music-FLYER-WEEKLY-Generic.png
ORGANIZER;CN="Obelisco":MAILTO:amy@obelisco.com
END:VEVENT
BEGIN:VEVENT
DTSTART;TZID=America/Los_Angeles:20260605T183000
DTEND;TZID=America/Los_Angeles:20260605T210000
DTSTAMP:20260417T213459
CREATED:20260413T201325Z
LAST-MODIFIED:20260413T201325Z
UID:10003423-1780684200-1780693200@www.washingtonwine.org
SUMMARY:Music Nights at Obelisco Estate Winery! Hollywood District\, Woodinville
DESCRIPTION:Every Friday and Saturday Evening from 7pm to 9pm\nObelisco Music Nights bring the best of the Pacific Northwest straight to your glass. Every Friday Evening\, our tasting room comes alive with talented local musicians\, creating the perfect backdrop for great wine\, great company\, and unforgettable evenings. From soulful acoustic sets to high‑energy favorites\, our stage hosts some of the region’s most loved performers.\nJoin us\, settle in\, and let the music elevate your night.
URL:https://www.washingtonwine.org/event/music-nights-at-obelisco-estate-winery-hollywood-district-woodinville/2026-06-05/
LOCATION:Obelisco\, Hollywood District - 14525 148th Ave NE\, Woodinville\, WA\, 98072\, United States
CATEGORIES:Concert,Consumer,Date-Night,Tasting,Wine-tasting
ATTACH;FMTTYPE=image/png:https://www.washingtonwine.org/wp-content/uploads/2026/04/Music-FLYER-WEEKLY-Generic.png
ORGANIZER;CN="Obelisco":MAILTO:amy@obelisco.com
END:VEVENT
BEGIN:VEVENT
DTSTART;TZID=America/Los_Angeles:20260529T183000
DTEND;TZID=America/Los_Angeles:20260529T210000
DTSTAMP:20260417T213459
CREATED:20260413T201325Z
LAST-MODIFIED:20260413T201325Z
UID:10003422-1780079400-1780088400@www.washingtonwine.org
SUMMARY:Music Nights at Obelisco Estate Winery! Hollywood District\, Woodinville
DESCRIPTION:Every Friday and Saturday Evening from 7pm to 9pm\nObelisco Music Nights bring the best of the Pacific Northwest straight to your glass. Every Friday Evening\, our tasting room comes alive with talented local musicians\, creating the perfect backdrop for great wine\, great company\, and unforgettable evenings. From soulful acoustic sets to high‑energy favorites\, our stage hosts some of the region’s most loved performers.\nJoin us\, settle in\, and let the music elevate your night.
URL:https://www.washingtonwine.org/event/music-nights-at-obelisco-estate-winery-hollywood-district-woodinville/2026-05-29/
LOCATION:Obelisco\, Hollywood District - 14525 148th Ave NE\, Woodinville\, WA\, 98072\, United States
CATEGORIES:Concert,Consumer,Date-Night,Tasting,Wine-tasting
ATTACH;FMTTYPE=image/png:https://www.washingtonwine.org/wp-content/uploads/2026/04/Music-FLYER-WEEKLY-Generic.png
ORGANIZER;CN="Obelisco":MAILTO:amy@obelisco.com
END:VEVENT
BEGIN:VEVENT
DTSTART;TZID=America/Los_Angeles:20260522T183000
DTEND;TZID=America/Los_Angeles:20260522T210000
DTSTAMP:20260417T213459
CREATED:20260413T201325Z
LAST-MODIFIED:20260413T201325Z
UID:10003421-1779474600-1779483600@www.washingtonwine.org
SUMMARY:Music Nights at Obelisco Estate Winery! Hollywood District\, Woodinville
DESCRIPTION:Every Friday and Saturday Evening from 7pm to 9pm\nObelisco Music Nights bring the best of the Pacific Northwest straight to your glass. Every Friday Evening\, our tasting room comes alive with talented local musicians\, creating the perfect backdrop for great wine\, great company\, and unforgettable evenings. From soulful acoustic sets to high‑energy favorites\, our stage hosts some of the region’s most loved performers.\nJoin us\, settle in\, and let the music elevate your night.
URL:https://www.washingtonwine.org/event/music-nights-at-obelisco-estate-winery-hollywood-district-woodinville/2026-05-22/
LOCATION:Obelisco\, Hollywood District - 14525 148th Ave NE\, Woodinville\, WA\, 98072\, United States
CATEGORIES:Concert,Consumer,Date-Night,Tasting,Wine-tasting
ATTACH;FMTTYPE=image/png:https://www.washingtonwine.org/wp-content/uploads/2026/04/Music-FLYER-WEEKLY-Generic.png
ORGANIZER;CN="Obelisco":MAILTO:amy@obelisco.com
END:VEVENT
BEGIN:VEVENT
DTSTART;TZID=America/Los_Angeles:20260515T183000
DTEND;TZID=America/Los_Angeles:20260515T210000
DTSTAMP:20260417T213459
CREATED:20260413T201325Z
LAST-MODIFIED:20260413T201325Z
UID:10003420-1778869800-1778878800@www.washingtonwine.org
SUMMARY:Music Nights at Obelisco Estate Winery! Hollywood District\, Woodinville
DESCRIPTION:Every Friday and Saturday Evening from 7pm to 9pm\nObelisco Music Nights bring the best of the Pacific Northwest straight to your glass. Every Friday Evening\, our tasting room comes alive with talented local musicians\, creating the perfect backdrop for great wine\, great company\, and unforgettable evenings. From soulful acoustic sets to high‑energy favorites\, our stage hosts some of the region’s most loved performers.\nJoin us\, settle in\, and let the music elevate your night.
URL:https://www.washingtonwine.org/event/music-nights-at-obelisco-estate-winery-hollywood-district-woodinville/2026-05-15/
LOCATION:Obelisco\, Hollywood District - 14525 148th Ave NE\, Woodinville\, WA\, 98072\, United States
CATEGORIES:Concert,Consumer,Date-Night,Tasting,Wine-tasting
ATTACH;FMTTYPE=image/png:https://www.washingtonwine.org/wp-content/uploads/2026/04/Music-FLYER-WEEKLY-Generic.png
ORGANIZER;CN="Obelisco":MAILTO:amy@obelisco.com
END:VEVENT
BEGIN:VEVENT
DTSTART;TZID=America/Los_Angeles:20260508T183000
DTEND;TZID=America/Los_Angeles:20260508T210000
DTSTAMP:20260417T213459
CREATED:20260413T201325Z
LAST-MODIFIED:20260413T201325Z
UID:10003419-1778265000-1778274000@www.washingtonwine.org
SUMMARY:Music Nights at Obelisco Estate Winery! Hollywood District\, Woodinville
DESCRIPTION:Every Friday and Saturday Evening from 7pm to 9pm\nObelisco Music Nights bring the best of the Pacific Northwest straight to your glass. Every Friday Evening\, our tasting room comes alive with talented local musicians\, creating the perfect backdrop for great wine\, great company\, and unforgettable evenings. From soulful acoustic sets to high‑energy favorites\, our stage hosts some of the region’s most loved performers.\nJoin us\, settle in\, and let the music elevate your night.
URL:https://www.washingtonwine.org/event/music-nights-at-obelisco-estate-winery-hollywood-district-woodinville/2026-05-08/
LOCATION:Obelisco\, Hollywood District - 14525 148th Ave NE\, Woodinville\, WA\, 98072\, United States
CATEGORIES:Concert,Consumer,Date-Night,Tasting,Wine-tasting
ATTACH;FMTTYPE=image/png:https://www.washingtonwine.org/wp-content/uploads/2026/04/Music-FLYER-WEEKLY-Generic.png
ORGANIZER;CN="Obelisco":MAILTO:amy@obelisco.com
END:VEVENT
BEGIN:VEVENT
DTSTART;TZID=America/Los_Angeles:20260501T183000
DTEND;TZID=America/Los_Angeles:20260501T210000
DTSTAMP:20260417T213459
CREATED:20260413T201325Z
LAST-MODIFIED:20260413T201325Z
UID:10003418-1777660200-1777669200@www.washingtonwine.org
SUMMARY:Music Nights at Obelisco Estate Winery! Hollywood District\, Woodinville
DESCRIPTION:Every Friday and Saturday Evening from 7pm to 9pm\nObelisco Music Nights bring the best of the Pacific Northwest straight to your glass. Every Friday Evening\, our tasting room comes alive with talented local musicians\, creating the perfect backdrop for great wine\, great company\, and unforgettable evenings. From soulful acoustic sets to high‑energy favorites\, our stage hosts some of the region’s most loved performers.\nJoin us\, settle in\, and let the music elevate your night.
URL:https://www.washingtonwine.org/event/music-nights-at-obelisco-estate-winery-hollywood-district-woodinville/2026-05-01/
LOCATION:Obelisco\, Hollywood District - 14525 148th Ave NE\, Woodinville\, WA\, 98072\, United States
CATEGORIES:Concert,Consumer,Date-Night,Tasting,Wine-tasting
ATTACH;FMTTYPE=image/png:https://www.washingtonwine.org/wp-content/uploads/2026/04/Music-FLYER-WEEKLY-Generic.png
ORGANIZER;CN="Obelisco":MAILTO:amy@obelisco.com
END:VEVENT
BEGIN:VEVENT
DTSTART;TZID=America/Los_Angeles:20260424T183000
DTEND;TZID=America/Los_Angeles:20260424T210000
DTSTAMP:20260417T213459
CREATED:20260413T201325Z
LAST-MODIFIED:20260413T201325Z
UID:10003417-1777055400-1777064400@www.washingtonwine.org
SUMMARY:Music Nights at Obelisco Estate Winery! Hollywood District\, Woodinville
DESCRIPTION:Every Friday and Saturday Evening from 7pm to 9pm\nObelisco Music Nights bring the best of the Pacific Northwest straight to your glass. Every Friday Evening\, our tasting room comes alive with talented local musicians\, creating the perfect backdrop for great wine\, great company\, and unforgettable evenings. From soulful acoustic sets to high‑energy favorites\, our stage hosts some of the region’s most loved performers.\nJoin us\, settle in\, and let the music elevate your night.
URL:https://www.washingtonwine.org/event/music-nights-at-obelisco-estate-winery-hollywood-district-woodinville/2026-04-24/
LOCATION:Obelisco\, Hollywood District - 14525 148th Ave NE\, Woodinville\, WA\, 98072\, United States
CATEGORIES:Concert,Consumer,Date-Night,Tasting,Wine-tasting
ATTACH;FMTTYPE=image/png:https://www.washingtonwine.org/wp-content/uploads/2026/04/Music-FLYER-WEEKLY-Generic.png
ORGANIZER;CN="Obelisco":MAILTO:amy@obelisco.com
END:VEVENT
BEGIN:VEVENT
DTSTART;TZID=America/Los_Angeles:20260417T183000
DTEND;TZID=America/Los_Angeles:20260417T210000
DTSTAMP:20260417T213500
CREATED:20260413T201325Z
LAST-MODIFIED:20260413T201325Z
UID:10003416-1776450600-1776459600@www.washingtonwine.org
SUMMARY:Music Nights at Obelisco Estate Winery! Hollywood District\, Woodinville
DESCRIPTION:Every Friday and Saturday Evening from 7pm to 9pm\nObelisco Music Nights bring the best of the Pacific Northwest straight to your glass. Every Friday Evening\, our tasting room comes alive with talented local musicians\, creating the perfect backdrop for great wine\, great company\, and unforgettable evenings. From soulful acoustic sets to high‑energy favorites\, our stage hosts some of the region’s most loved performers.\nJoin us\, settle in\, and let the music elevate your night.
URL:https://www.washingtonwine.org/event/music-nights-at-obelisco-estate-winery-hollywood-district-woodinville/2026-04-17/
LOCATION:Obelisco\, Hollywood District - 14525 148th Ave NE\, Woodinville\, WA\, 98072\, United States
CATEGORIES:Concert,Consumer,Date-Night,Tasting,Wine-tasting
ATTACH;FMTTYPE=image/png:https://www.washingtonwine.org/wp-content/uploads/2026/04/Music-FLYER-WEEKLY-Generic.png
ORGANIZER;CN="Obelisco":MAILTO:amy@obelisco.com
END:VEVENT
BEGIN:VEVENT
DTSTART;TZID=America/Los_Angeles:20260410T183000
DTEND;TZID=America/Los_Angeles:20260410T210000
DTSTAMP:20260417T213500
CREATED:20260413T201325Z
LAST-MODIFIED:20260413T201325Z
UID:10003415-1775845800-1775854800@www.washingtonwine.org
SUMMARY:Music Nights at Obelisco Estate Winery! Hollywood District\, Woodinville
DESCRIPTION:Every Friday and Saturday Evening from 7pm to 9pm\nObelisco Music Nights bring the best of the Pacific Northwest straight to your glass. Every Friday Evening\, our tasting room comes alive with talented local musicians\, creating the perfect backdrop for great wine\, great company\, and unforgettable evenings. From soulful acoustic sets to high‑energy favorites\, our stage hosts some of the region’s most loved performers.\nJoin us\, settle in\, and let the music elevate your night.
URL:https://www.washingtonwine.org/event/music-nights-at-obelisco-estate-winery-hollywood-district-woodinville/2026-04-10/
LOCATION:Obelisco\, Hollywood District - 14525 148th Ave NE\, Woodinville\, WA\, 98072\, United States
CATEGORIES:Concert,Consumer,Date-Night,Tasting,Wine-tasting
ATTACH;FMTTYPE=image/png:https://www.washingtonwine.org/wp-content/uploads/2026/04/Music-FLYER-WEEKLY-Generic.png
ORGANIZER;CN="Obelisco":MAILTO:amy@obelisco.com
END:VEVENT
END:VCALENDAR