BEGIN:VCALENDAR
VERSION:2.0
PRODID:-//Washington State Wine Commission - ECPv6.15.18//NONSGML v1.0//EN
CALSCALE:GREGORIAN
METHOD:PUBLISH
X-ORIGINAL-URL:https://www.washingtonwine.org
X-WR-CALDESC:Events for Washington State Wine Commission
REFRESH-INTERVAL;VALUE=DURATION:PT1H
X-Robots-Tag:noindex
X-PUBLISHED-TTL:PT1H
BEGIN:VTIMEZONE
TZID:America/Los_Angeles
BEGIN:DAYLIGHT
TZOFFSETFROM:-0800
TZOFFSETTO:-0700
TZNAME:PDT
DTSTART:20250309T100000
END:DAYLIGHT
BEGIN:STANDARD
TZOFFSETFROM:-0700
TZOFFSETTO:-0800
TZNAME:PST
DTSTART:20251102T090000
END:STANDARD
BEGIN:DAYLIGHT
TZOFFSETFROM:-0800
TZOFFSETTO:-0700
TZNAME:PDT
DTSTART:20260308T100000
END:DAYLIGHT
BEGIN:STANDARD
TZOFFSETFROM:-0700
TZOFFSETTO:-0800
TZNAME:PST
DTSTART:20261101T090000
END:STANDARD
BEGIN:DAYLIGHT
TZOFFSETFROM:-0800
TZOFFSETTO:-0700
TZNAME:PDT
DTSTART:20270314T100000
END:DAYLIGHT
BEGIN:STANDARD
TZOFFSETFROM:-0700
TZOFFSETTO:-0800
TZNAME:PST
DTSTART:20271107T090000
END:STANDARD
END:VTIMEZONE
BEGIN:VEVENT
DTSTART;TZID=America/Los_Angeles:20260725T183000
DTEND;TZID=America/Los_Angeles:20260725T210000
DTSTAMP:20260417T043026
CREATED:20260414T182039Z
LAST-MODIFIED:20260414T182039Z
UID:10003691-1785004200-1785013200@www.washingtonwine.org
SUMMARY:Live Music Saturday's at Obelisco Estate Winery
DESCRIPTION:Yes – every Friday and Saturday we have live music at Obelisco!!!\nYour Weekend Hang is Here: Obelisco Music Nights\nSip\, relax\, and enjoy live music from some of the PNW’s most popular artists. Every weekend\, our tasting room transforms into a lively\, welcoming space filled with great wine\, great vibes\, and great talent. Whether you’re meeting friends or winding down after a long week\, Obelisco is the place to be. Come see us on Saturday!
URL:https://www.washingtonwine.org/event/live-music-saturdays-at-obelisco-estate-winery/2026-07-25/
LOCATION:Obelisco Estate Winery\, Hollywood District - 14525 148th Ave NE\, Woodinville\, WA\, 98072\, United States
CATEGORIES:Concert,Consumer,Date-Night,Tasting,Wine-tasting
ATTACH;FMTTYPE=image/png:https://www.washingtonwine.org/wp-content/uploads/2026/04/Music-FLYER-WEEKLY-Generic-1.png
ORGANIZER;CN="Obelisco":MAILTO:amy@obelisco.com
END:VEVENT
BEGIN:VEVENT
DTSTART;TZID=America/Los_Angeles:20260718T183000
DTEND;TZID=America/Los_Angeles:20260718T210000
DTSTAMP:20260417T043026
CREATED:20260414T182039Z
LAST-MODIFIED:20260414T182039Z
UID:10003690-1784399400-1784408400@www.washingtonwine.org
SUMMARY:Live Music Saturday's at Obelisco Estate Winery
DESCRIPTION:Yes – every Friday and Saturday we have live music at Obelisco!!!\nYour Weekend Hang is Here: Obelisco Music Nights\nSip\, relax\, and enjoy live music from some of the PNW’s most popular artists. Every weekend\, our tasting room transforms into a lively\, welcoming space filled with great wine\, great vibes\, and great talent. Whether you’re meeting friends or winding down after a long week\, Obelisco is the place to be. Come see us on Saturday!
URL:https://www.washingtonwine.org/event/live-music-saturdays-at-obelisco-estate-winery/2026-07-18/
LOCATION:Obelisco Estate Winery\, Hollywood District - 14525 148th Ave NE\, Woodinville\, WA\, 98072\, United States
CATEGORIES:Concert,Consumer,Date-Night,Tasting,Wine-tasting
ATTACH;FMTTYPE=image/png:https://www.washingtonwine.org/wp-content/uploads/2026/04/Music-FLYER-WEEKLY-Generic-1.png
ORGANIZER;CN="Obelisco":MAILTO:amy@obelisco.com
END:VEVENT
BEGIN:VEVENT
DTSTART;TZID=America/Los_Angeles:20260711T183000
DTEND;TZID=America/Los_Angeles:20260711T210000
DTSTAMP:20260417T043026
CREATED:20260414T182039Z
LAST-MODIFIED:20260414T182039Z
UID:10003689-1783794600-1783803600@www.washingtonwine.org
SUMMARY:Live Music Saturday's at Obelisco Estate Winery
DESCRIPTION:Yes – every Friday and Saturday we have live music at Obelisco!!!\nYour Weekend Hang is Here: Obelisco Music Nights\nSip\, relax\, and enjoy live music from some of the PNW’s most popular artists. Every weekend\, our tasting room transforms into a lively\, welcoming space filled with great wine\, great vibes\, and great talent. Whether you’re meeting friends or winding down after a long week\, Obelisco is the place to be. Come see us on Saturday!
URL:https://www.washingtonwine.org/event/live-music-saturdays-at-obelisco-estate-winery/2026-07-11/
LOCATION:Obelisco Estate Winery\, Hollywood District - 14525 148th Ave NE\, Woodinville\, WA\, 98072\, United States
CATEGORIES:Concert,Consumer,Date-Night,Tasting,Wine-tasting
ATTACH;FMTTYPE=image/png:https://www.washingtonwine.org/wp-content/uploads/2026/04/Music-FLYER-WEEKLY-Generic-1.png
ORGANIZER;CN="Obelisco":MAILTO:amy@obelisco.com
END:VEVENT
BEGIN:VEVENT
DTSTART;TZID=America/Los_Angeles:20260704T183000
DTEND;TZID=America/Los_Angeles:20260704T210000
DTSTAMP:20260417T043026
CREATED:20260414T182039Z
LAST-MODIFIED:20260414T182039Z
UID:10003688-1783189800-1783198800@www.washingtonwine.org
SUMMARY:Live Music Saturday's at Obelisco Estate Winery
DESCRIPTION:Yes – every Friday and Saturday we have live music at Obelisco!!!\nYour Weekend Hang is Here: Obelisco Music Nights\nSip\, relax\, and enjoy live music from some of the PNW’s most popular artists. Every weekend\, our tasting room transforms into a lively\, welcoming space filled with great wine\, great vibes\, and great talent. Whether you’re meeting friends or winding down after a long week\, Obelisco is the place to be. Come see us on Saturday!
URL:https://www.washingtonwine.org/event/live-music-saturdays-at-obelisco-estate-winery/2026-07-04/
LOCATION:Obelisco Estate Winery\, Hollywood District - 14525 148th Ave NE\, Woodinville\, WA\, 98072\, United States
CATEGORIES:Concert,Consumer,Date-Night,Tasting,Wine-tasting
ATTACH;FMTTYPE=image/png:https://www.washingtonwine.org/wp-content/uploads/2026/04/Music-FLYER-WEEKLY-Generic-1.png
ORGANIZER;CN="Obelisco":MAILTO:amy@obelisco.com
END:VEVENT
BEGIN:VEVENT
DTSTART;TZID=America/Los_Angeles:20260627T183000
DTEND;TZID=America/Los_Angeles:20260627T210000
DTSTAMP:20260417T043026
CREATED:20260414T182039Z
LAST-MODIFIED:20260414T182039Z
UID:10003687-1782585000-1782594000@www.washingtonwine.org
SUMMARY:Live Music Saturday's at Obelisco Estate Winery
DESCRIPTION:Yes – every Friday and Saturday we have live music at Obelisco!!!\nYour Weekend Hang is Here: Obelisco Music Nights\nSip\, relax\, and enjoy live music from some of the PNW’s most popular artists. Every weekend\, our tasting room transforms into a lively\, welcoming space filled with great wine\, great vibes\, and great talent. Whether you’re meeting friends or winding down after a long week\, Obelisco is the place to be. Come see us on Saturday!
URL:https://www.washingtonwine.org/event/live-music-saturdays-at-obelisco-estate-winery/2026-06-27/
LOCATION:Obelisco Estate Winery\, Hollywood District - 14525 148th Ave NE\, Woodinville\, WA\, 98072\, United States
CATEGORIES:Concert,Consumer,Date-Night,Tasting,Wine-tasting
ATTACH;FMTTYPE=image/png:https://www.washingtonwine.org/wp-content/uploads/2026/04/Music-FLYER-WEEKLY-Generic-1.png
ORGANIZER;CN="Obelisco":MAILTO:amy@obelisco.com
END:VEVENT
BEGIN:VEVENT
DTSTART;TZID=America/Los_Angeles:20260620T183000
DTEND;TZID=America/Los_Angeles:20260620T210000
DTSTAMP:20260417T043026
CREATED:20260414T182039Z
LAST-MODIFIED:20260414T182039Z
UID:10003686-1781980200-1781989200@www.washingtonwine.org
SUMMARY:Live Music Saturday's at Obelisco Estate Winery
DESCRIPTION:Yes – every Friday and Saturday we have live music at Obelisco!!!\nYour Weekend Hang is Here: Obelisco Music Nights\nSip\, relax\, and enjoy live music from some of the PNW’s most popular artists. Every weekend\, our tasting room transforms into a lively\, welcoming space filled with great wine\, great vibes\, and great talent. Whether you’re meeting friends or winding down after a long week\, Obelisco is the place to be. Come see us on Saturday!
URL:https://www.washingtonwine.org/event/live-music-saturdays-at-obelisco-estate-winery/2026-06-20/
LOCATION:Obelisco Estate Winery\, Hollywood District - 14525 148th Ave NE\, Woodinville\, WA\, 98072\, United States
CATEGORIES:Concert,Consumer,Date-Night,Tasting,Wine-tasting
ATTACH;FMTTYPE=image/png:https://www.washingtonwine.org/wp-content/uploads/2026/04/Music-FLYER-WEEKLY-Generic-1.png
ORGANIZER;CN="Obelisco":MAILTO:amy@obelisco.com
END:VEVENT
BEGIN:VEVENT
DTSTART;TZID=America/Los_Angeles:20260613T183000
DTEND;TZID=America/Los_Angeles:20260613T210000
DTSTAMP:20260417T043026
CREATED:20260414T182039Z
LAST-MODIFIED:20260414T182039Z
UID:10003685-1781375400-1781384400@www.washingtonwine.org
SUMMARY:Live Music Saturday's at Obelisco Estate Winery
DESCRIPTION:Yes – every Friday and Saturday we have live music at Obelisco!!!\nYour Weekend Hang is Here: Obelisco Music Nights\nSip\, relax\, and enjoy live music from some of the PNW’s most popular artists. Every weekend\, our tasting room transforms into a lively\, welcoming space filled with great wine\, great vibes\, and great talent. Whether you’re meeting friends or winding down after a long week\, Obelisco is the place to be. Come see us on Saturday!
URL:https://www.washingtonwine.org/event/live-music-saturdays-at-obelisco-estate-winery/2026-06-13/
LOCATION:Obelisco Estate Winery\, Hollywood District - 14525 148th Ave NE\, Woodinville\, WA\, 98072\, United States
CATEGORIES:Concert,Consumer,Date-Night,Tasting,Wine-tasting
ATTACH;FMTTYPE=image/png:https://www.washingtonwine.org/wp-content/uploads/2026/04/Music-FLYER-WEEKLY-Generic-1.png
ORGANIZER;CN="Obelisco":MAILTO:amy@obelisco.com
END:VEVENT
BEGIN:VEVENT
DTSTART;TZID=America/Los_Angeles:20260606T183000
DTEND;TZID=America/Los_Angeles:20260606T210000
DTSTAMP:20260417T043026
CREATED:20260414T182039Z
LAST-MODIFIED:20260414T182039Z
UID:10003684-1780770600-1780779600@www.washingtonwine.org
SUMMARY:Live Music Saturday's at Obelisco Estate Winery
DESCRIPTION:Yes – every Friday and Saturday we have live music at Obelisco!!!\nYour Weekend Hang is Here: Obelisco Music Nights\nSip\, relax\, and enjoy live music from some of the PNW’s most popular artists. Every weekend\, our tasting room transforms into a lively\, welcoming space filled with great wine\, great vibes\, and great talent. Whether you’re meeting friends or winding down after a long week\, Obelisco is the place to be. Come see us on Saturday!
URL:https://www.washingtonwine.org/event/live-music-saturdays-at-obelisco-estate-winery/2026-06-06/
LOCATION:Obelisco Estate Winery\, Hollywood District - 14525 148th Ave NE\, Woodinville\, WA\, 98072\, United States
CATEGORIES:Concert,Consumer,Date-Night,Tasting,Wine-tasting
ATTACH;FMTTYPE=image/png:https://www.washingtonwine.org/wp-content/uploads/2026/04/Music-FLYER-WEEKLY-Generic-1.png
ORGANIZER;CN="Obelisco":MAILTO:amy@obelisco.com
END:VEVENT
BEGIN:VEVENT
DTSTART;TZID=America/Los_Angeles:20260530T183000
DTEND;TZID=America/Los_Angeles:20260530T210000
DTSTAMP:20260417T043026
CREATED:20260414T182039Z
LAST-MODIFIED:20260414T182039Z
UID:10003683-1780165800-1780174800@www.washingtonwine.org
SUMMARY:Live Music Saturday's at Obelisco Estate Winery
DESCRIPTION:Yes – every Friday and Saturday we have live music at Obelisco!!!\nYour Weekend Hang is Here: Obelisco Music Nights\nSip\, relax\, and enjoy live music from some of the PNW’s most popular artists. Every weekend\, our tasting room transforms into a lively\, welcoming space filled with great wine\, great vibes\, and great talent. Whether you’re meeting friends or winding down after a long week\, Obelisco is the place to be. Come see us on Saturday!
URL:https://www.washingtonwine.org/event/live-music-saturdays-at-obelisco-estate-winery/2026-05-30/
LOCATION:Obelisco Estate Winery\, Hollywood District - 14525 148th Ave NE\, Woodinville\, WA\, 98072\, United States
CATEGORIES:Concert,Consumer,Date-Night,Tasting,Wine-tasting
ATTACH;FMTTYPE=image/png:https://www.washingtonwine.org/wp-content/uploads/2026/04/Music-FLYER-WEEKLY-Generic-1.png
ORGANIZER;CN="Obelisco":MAILTO:amy@obelisco.com
END:VEVENT
BEGIN:VEVENT
DTSTART;TZID=America/Los_Angeles:20260523T183000
DTEND;TZID=America/Los_Angeles:20260523T210000
DTSTAMP:20260417T043026
CREATED:20260414T182039Z
LAST-MODIFIED:20260414T182039Z
UID:10003682-1779561000-1779570000@www.washingtonwine.org
SUMMARY:Live Music Saturday's at Obelisco Estate Winery
DESCRIPTION:Yes – every Friday and Saturday we have live music at Obelisco!!!\nYour Weekend Hang is Here: Obelisco Music Nights\nSip\, relax\, and enjoy live music from some of the PNW’s most popular artists. Every weekend\, our tasting room transforms into a lively\, welcoming space filled with great wine\, great vibes\, and great talent. Whether you’re meeting friends or winding down after a long week\, Obelisco is the place to be. Come see us on Saturday!
URL:https://www.washingtonwine.org/event/live-music-saturdays-at-obelisco-estate-winery/2026-05-23/
LOCATION:Obelisco Estate Winery\, Hollywood District - 14525 148th Ave NE\, Woodinville\, WA\, 98072\, United States
CATEGORIES:Concert,Consumer,Date-Night,Tasting,Wine-tasting
ATTACH;FMTTYPE=image/png:https://www.washingtonwine.org/wp-content/uploads/2026/04/Music-FLYER-WEEKLY-Generic-1.png
ORGANIZER;CN="Obelisco":MAILTO:amy@obelisco.com
END:VEVENT
BEGIN:VEVENT
DTSTART;TZID=America/Los_Angeles:20260516T183000
DTEND;TZID=America/Los_Angeles:20260516T210000
DTSTAMP:20260417T043026
CREATED:20260414T182039Z
LAST-MODIFIED:20260414T182039Z
UID:10003681-1778956200-1778965200@www.washingtonwine.org
SUMMARY:Live Music Saturday's at Obelisco Estate Winery
DESCRIPTION:Yes – every Friday and Saturday we have live music at Obelisco!!!\nYour Weekend Hang is Here: Obelisco Music Nights\nSip\, relax\, and enjoy live music from some of the PNW’s most popular artists. Every weekend\, our tasting room transforms into a lively\, welcoming space filled with great wine\, great vibes\, and great talent. Whether you’re meeting friends or winding down after a long week\, Obelisco is the place to be. Come see us on Saturday!
URL:https://www.washingtonwine.org/event/live-music-saturdays-at-obelisco-estate-winery/2026-05-16/
LOCATION:Obelisco Estate Winery\, Hollywood District - 14525 148th Ave NE\, Woodinville\, WA\, 98072\, United States
CATEGORIES:Concert,Consumer,Date-Night,Tasting,Wine-tasting
ATTACH;FMTTYPE=image/png:https://www.washingtonwine.org/wp-content/uploads/2026/04/Music-FLYER-WEEKLY-Generic-1.png
ORGANIZER;CN="Obelisco":MAILTO:amy@obelisco.com
END:VEVENT
BEGIN:VEVENT
DTSTART;TZID=America/Los_Angeles:20260509T183000
DTEND;TZID=America/Los_Angeles:20260509T210000
DTSTAMP:20260417T043027
CREATED:20260414T182039Z
LAST-MODIFIED:20260414T182039Z
UID:10003680-1778351400-1778360400@www.washingtonwine.org
SUMMARY:Live Music Saturday's at Obelisco Estate Winery
DESCRIPTION:Yes – every Friday and Saturday we have live music at Obelisco!!!\nYour Weekend Hang is Here: Obelisco Music Nights\nSip\, relax\, and enjoy live music from some of the PNW’s most popular artists. Every weekend\, our tasting room transforms into a lively\, welcoming space filled with great wine\, great vibes\, and great talent. Whether you’re meeting friends or winding down after a long week\, Obelisco is the place to be. Come see us on Saturday!
URL:https://www.washingtonwine.org/event/live-music-saturdays-at-obelisco-estate-winery/2026-05-09/
LOCATION:Obelisco Estate Winery\, Hollywood District - 14525 148th Ave NE\, Woodinville\, WA\, 98072\, United States
CATEGORIES:Concert,Consumer,Date-Night,Tasting,Wine-tasting
ATTACH;FMTTYPE=image/png:https://www.washingtonwine.org/wp-content/uploads/2026/04/Music-FLYER-WEEKLY-Generic-1.png
ORGANIZER;CN="Obelisco":MAILTO:amy@obelisco.com
END:VEVENT
BEGIN:VEVENT
DTSTART;TZID=America/Los_Angeles:20260502T183000
DTEND;TZID=America/Los_Angeles:20260502T210000
DTSTAMP:20260417T043027
CREATED:20260414T182039Z
LAST-MODIFIED:20260414T182039Z
UID:10003679-1777746600-1777755600@www.washingtonwine.org
SUMMARY:Live Music Saturday's at Obelisco Estate Winery
DESCRIPTION:Yes – every Friday and Saturday we have live music at Obelisco!!!\nYour Weekend Hang is Here: Obelisco Music Nights\nSip\, relax\, and enjoy live music from some of the PNW’s most popular artists. Every weekend\, our tasting room transforms into a lively\, welcoming space filled with great wine\, great vibes\, and great talent. Whether you’re meeting friends or winding down after a long week\, Obelisco is the place to be. Come see us on Saturday!
URL:https://www.washingtonwine.org/event/live-music-saturdays-at-obelisco-estate-winery/2026-05-02/
LOCATION:Obelisco Estate Winery\, Hollywood District - 14525 148th Ave NE\, Woodinville\, WA\, 98072\, United States
CATEGORIES:Concert,Consumer,Date-Night,Tasting,Wine-tasting
ATTACH;FMTTYPE=image/png:https://www.washingtonwine.org/wp-content/uploads/2026/04/Music-FLYER-WEEKLY-Generic-1.png
ORGANIZER;CN="Obelisco":MAILTO:amy@obelisco.com
END:VEVENT
BEGIN:VEVENT
DTSTART;TZID=America/Los_Angeles:20260425T183000
DTEND;TZID=America/Los_Angeles:20260425T210000
DTSTAMP:20260417T043027
CREATED:20260414T182039Z
LAST-MODIFIED:20260414T182039Z
UID:10003678-1777141800-1777150800@www.washingtonwine.org
SUMMARY:Live Music Saturday's at Obelisco Estate Winery
DESCRIPTION:Yes – every Friday and Saturday we have live music at Obelisco!!!\nYour Weekend Hang is Here: Obelisco Music Nights\nSip\, relax\, and enjoy live music from some of the PNW’s most popular artists. Every weekend\, our tasting room transforms into a lively\, welcoming space filled with great wine\, great vibes\, and great talent. Whether you’re meeting friends or winding down after a long week\, Obelisco is the place to be. Come see us on Saturday!
URL:https://www.washingtonwine.org/event/live-music-saturdays-at-obelisco-estate-winery/2026-04-25/
LOCATION:Obelisco Estate Winery\, Hollywood District - 14525 148th Ave NE\, Woodinville\, WA\, 98072\, United States
CATEGORIES:Concert,Consumer,Date-Night,Tasting,Wine-tasting
ATTACH;FMTTYPE=image/png:https://www.washingtonwine.org/wp-content/uploads/2026/04/Music-FLYER-WEEKLY-Generic-1.png
ORGANIZER;CN="Obelisco":MAILTO:amy@obelisco.com
END:VEVENT
BEGIN:VEVENT
DTSTART;TZID=America/Los_Angeles:20260418T183000
DTEND;TZID=America/Los_Angeles:20260418T210000
DTSTAMP:20260417T043027
CREATED:20260414T182039Z
LAST-MODIFIED:20260414T182039Z
UID:10003677-1776537000-1776546000@www.washingtonwine.org
SUMMARY:Live Music Saturday's at Obelisco Estate Winery
DESCRIPTION:Yes – every Friday and Saturday we have live music at Obelisco!!!\nYour Weekend Hang is Here: Obelisco Music Nights\nSip\, relax\, and enjoy live music from some of the PNW’s most popular artists. Every weekend\, our tasting room transforms into a lively\, welcoming space filled with great wine\, great vibes\, and great talent. Whether you’re meeting friends or winding down after a long week\, Obelisco is the place to be. Come see us on Saturday!
URL:https://www.washingtonwine.org/event/live-music-saturdays-at-obelisco-estate-winery/2026-04-18/
LOCATION:Obelisco Estate Winery\, Hollywood District - 14525 148th Ave NE\, Woodinville\, WA\, 98072\, United States
CATEGORIES:Concert,Consumer,Date-Night,Tasting,Wine-tasting
ATTACH;FMTTYPE=image/png:https://www.washingtonwine.org/wp-content/uploads/2026/04/Music-FLYER-WEEKLY-Generic-1.png
ORGANIZER;CN="Obelisco":MAILTO:amy@obelisco.com
END:VEVENT
BEGIN:VEVENT
DTSTART;TZID=America/Los_Angeles:20260411T183000
DTEND;TZID=America/Los_Angeles:20260411T210000
DTSTAMP:20260417T043027
CREATED:20260414T182039Z
LAST-MODIFIED:20260414T182039Z
UID:10003676-1775932200-1775941200@www.washingtonwine.org
SUMMARY:Live Music Saturday's at Obelisco Estate Winery
DESCRIPTION:Yes – every Friday and Saturday we have live music at Obelisco!!!\nYour Weekend Hang is Here: Obelisco Music Nights\nSip\, relax\, and enjoy live music from some of the PNW’s most popular artists. Every weekend\, our tasting room transforms into a lively\, welcoming space filled with great wine\, great vibes\, and great talent. Whether you’re meeting friends or winding down after a long week\, Obelisco is the place to be. Come see us on Saturday!
URL:https://www.washingtonwine.org/event/live-music-saturdays-at-obelisco-estate-winery/2026-04-11/
LOCATION:Obelisco Estate Winery\, Hollywood District - 14525 148th Ave NE\, Woodinville\, WA\, 98072\, United States
CATEGORIES:Concert,Consumer,Date-Night,Tasting,Wine-tasting
ATTACH;FMTTYPE=image/png:https://www.washingtonwine.org/wp-content/uploads/2026/04/Music-FLYER-WEEKLY-Generic-1.png
ORGANIZER;CN="Obelisco":MAILTO:amy@obelisco.com
END:VEVENT
BEGIN:VEVENT
DTSTART;TZID=America/Los_Angeles:20260409T080000
DTEND;TZID=America/Los_Angeles:20260412T170000
DTSTAMP:20260417T043027
CREATED:20260413T201142Z
LAST-MODIFIED:20260413T201142Z
UID:10003414-1775721600-1776013200@www.washingtonwine.org
SUMMARY:The Master's Pimento Cheese & Wine Pairing
DESCRIPTION:Celebrating The Master’s at Obelisco: Four Days of Wine & Pimento Cheese Pairings\nIn honor of The Masters at Augusta National\, we’re teeing up something delicious: four days of Obelisco Wine & Pimento Cheese Pairings.\nYour pairing includes:\n• Three 3 oz pours of Obelisco wine\n• Three variations of the iconic Masters pimento cheese spread\n• Served all at once\, so you can sip\, mix\, match… and watch\nAnd yes—The Master’s will be on in the tasting room Thursday through Sunday\, so you can enjoy every swing\, putt\, and playoff moment with a glass in hand.\nAvailable exclusively at our Apple Farm Village Tasting Room\nReservations not required\, but definitely encouraged\nCome enjoy a little Augusta magic right here in Woodinville.\nMore information: \nHome page 2
URL:https://www.washingtonwine.org/event/the-masters-pimento-cheese-wine-pairing/
LOCATION:Obelisco Estate Winery\, Hollywood District - 14525 148th Ave NE\, Woodinville\, WA\, 98072\, United States
CATEGORIES:Consumer,Date-Night,Tasting,Unique Experiences,Wine-tasting
ATTACH;FMTTYPE=image/png:https://www.washingtonwine.org/wp-content/uploads/2026/04/Pimento-Cheese-Pairing-1.png
ORGANIZER;CN="Obelisco Estate Winery":MAILTO:amy@obelisco.com
END:VEVENT
END:VCALENDAR