BEGIN:VCALENDAR
VERSION:2.0
PRODID:-//Washington State Wine Commission - ECPv6.15.18//NONSGML v1.0//EN
CALSCALE:GREGORIAN
METHOD:PUBLISH
X-WR-CALNAME:Washington State Wine Commission
X-ORIGINAL-URL:https://www.washingtonwine.org
X-WR-CALDESC:Events for Washington State Wine Commission
REFRESH-INTERVAL;VALUE=DURATION:PT1H
X-Robots-Tag:noindex
X-PUBLISHED-TTL:PT1H
BEGIN:VTIMEZONE
TZID:America/Los_Angeles
BEGIN:DAYLIGHT
TZOFFSETFROM:-0800
TZOFFSETTO:-0700
TZNAME:PDT
DTSTART:20250309T100000
END:DAYLIGHT
BEGIN:STANDARD
TZOFFSETFROM:-0700
TZOFFSETTO:-0800
TZNAME:PST
DTSTART:20251102T090000
END:STANDARD
BEGIN:DAYLIGHT
TZOFFSETFROM:-0800
TZOFFSETTO:-0700
TZNAME:PDT
DTSTART:20260308T100000
END:DAYLIGHT
BEGIN:STANDARD
TZOFFSETFROM:-0700
TZOFFSETTO:-0800
TZNAME:PST
DTSTART:20261101T090000
END:STANDARD
BEGIN:DAYLIGHT
TZOFFSETFROM:-0800
TZOFFSETTO:-0700
TZNAME:PDT
DTSTART:20270314T100000
END:DAYLIGHT
BEGIN:STANDARD
TZOFFSETFROM:-0700
TZOFFSETTO:-0800
TZNAME:PST
DTSTART:20271107T090000
END:STANDARD
END:VTIMEZONE
BEGIN:VEVENT
DTSTART;TZID=America/Los_Angeles:20260405T120000
DTEND;TZID=America/Los_Angeles:20260405T133000
DTSTAMP:20260421T012201
CREATED:20251230T235240Z
LAST-MODIFIED:20251230T235240Z
UID:10002440-1775390400-1775395800@www.washingtonwine.org
SUMMARY:Yoga + Wine at Vibe Cellars!
DESCRIPTION:Join us for a 45-minute all-levels yoga class led by a local Yoga Uncorked Chelan instructor. We’ll move\, breathe\, and reset—no matter your experience level.\nAfter class\, stick around for wine! Grab a tasting flight\, enjoy a glass\, or share a bottle with friends. It’s a great way to move your body and connect with good company. \n45 Min Yoga Class\nBYOYM: Bring your own Yoga Mat!\n$25/person — wine cost separate\n10% off all bottle purchases\n21+ only\nTickets are Limited \n**Please sign up at least 24 hours in advance so we know how many yogis to expect\, and to make sure we can meet the Winery’s minimum. **\nCANCELLATION POLICY: No refunds. A minimum of 24 hours notice required to reschedule into another event.\nQuestions? ask us at yogauncorked@gmail.com
URL:https://www.washingtonwine.org/event/yoga-wine-at-vibe-cellars/2026-04-05/
LOCATION:Vibe Cellars Tasting Room\, 150 Wapato Way\, Manson\, WA\, 98831\, United States
CATEGORIES:Unique Experiences
ATTACH;FMTTYPE=image/jpeg:https://www.washingtonwine.org/wp-content/uploads/2025/12/14950E01-6358-4F43-851A-4C6FB5D1E1DD-scaled.jpg
ORGANIZER;CN="Yoga Uncorked":MAILTO:yogauncorked@gmail.com
END:VEVENT
BEGIN:VEVENT
DTSTART;TZID=America/Los_Angeles:20260329T120000
DTEND;TZID=America/Los_Angeles:20260329T133000
DTSTAMP:20260421T012201
CREATED:20251230T235240Z
LAST-MODIFIED:20251230T235240Z
UID:10002439-1774785600-1774791000@www.washingtonwine.org
SUMMARY:Yoga + Wine at Vibe Cellars!
DESCRIPTION:Join us for a 45-minute all-levels yoga class led by a local Yoga Uncorked Chelan instructor. We’ll move\, breathe\, and reset—no matter your experience level.\nAfter class\, stick around for wine! Grab a tasting flight\, enjoy a glass\, or share a bottle with friends. It’s a great way to move your body and connect with good company. \n45 Min Yoga Class\nBYOYM: Bring your own Yoga Mat!\n$25/person — wine cost separate\n10% off all bottle purchases\n21+ only\nTickets are Limited \n**Please sign up at least 24 hours in advance so we know how many yogis to expect\, and to make sure we can meet the Winery’s minimum. **\nCANCELLATION POLICY: No refunds. A minimum of 24 hours notice required to reschedule into another event.\nQuestions? ask us at yogauncorked@gmail.com
URL:https://www.washingtonwine.org/event/yoga-wine-at-vibe-cellars/2026-03-29/
LOCATION:Vibe Cellars Tasting Room\, 150 Wapato Way\, Manson\, WA\, 98831\, United States
CATEGORIES:Unique Experiences
ATTACH;FMTTYPE=image/jpeg:https://www.washingtonwine.org/wp-content/uploads/2025/12/14950E01-6358-4F43-851A-4C6FB5D1E1DD-scaled.jpg
ORGANIZER;CN="Yoga Uncorked":MAILTO:yogauncorked@gmail.com
END:VEVENT
BEGIN:VEVENT
DTSTART;TZID=America/Los_Angeles:20260222T120000
DTEND;TZID=America/Los_Angeles:20260222T133000
DTSTAMP:20260421T012201
CREATED:20251230T235240Z
LAST-MODIFIED:20251230T235240Z
UID:10002438-1771761600-1771767000@www.washingtonwine.org
SUMMARY:Yoga + Wine at Vibe Cellars!
DESCRIPTION:Join us for a 45-minute all-levels yoga class led by a local Yoga Uncorked Chelan instructor. We’ll move\, breathe\, and reset—no matter your experience level.\nAfter class\, stick around for wine! Grab a tasting flight\, enjoy a glass\, or share a bottle with friends. It’s a great way to move your body and connect with good company. \n45 Min Yoga Class\nBYOYM: Bring your own Yoga Mat!\n$25/person — wine cost separate\n10% off all bottle purchases\n21+ only\nTickets are Limited \n**Please sign up at least 24 hours in advance so we know how many yogis to expect\, and to make sure we can meet the Winery’s minimum. **\nCANCELLATION POLICY: No refunds. A minimum of 24 hours notice required to reschedule into another event.\nQuestions? ask us at yogauncorked@gmail.com
URL:https://www.washingtonwine.org/event/yoga-wine-at-vibe-cellars/2026-02-22/
LOCATION:Vibe Cellars Tasting Room\, 150 Wapato Way\, Manson\, WA\, 98831\, United States
CATEGORIES:Unique Experiences
ATTACH;FMTTYPE=image/jpeg:https://www.washingtonwine.org/wp-content/uploads/2025/12/14950E01-6358-4F43-851A-4C6FB5D1E1DD-scaled.jpg
ORGANIZER;CN="Yoga Uncorked":MAILTO:yogauncorked@gmail.com
END:VEVENT
END:VCALENDAR